BEGIN:VCALENDAR
VERSION:2.0
PRODID:-// - ECPv5.16.2.1//NONSGML v1.0//EN
CALSCALE:GREGORIAN
METHOD:PUBLISH
X-ORIGINAL-URL:https://sosrcotraining.org
X-WR-CALDESC:Events for 
REFRESH-INTERVAL;VALUE=DURATION:PT1H
X-Robots-Tag:noindex
X-PUBLISHED-TTL:PT1H
BEGIN:VTIMEZONE
TZID:America/New_York
BEGIN:DAYLIGHT
TZOFFSETFROM:-0500
TZOFFSETTO:-0400
TZNAME:EDT
DTSTART:20230312T070000
END:DAYLIGHT
BEGIN:STANDARD
TZOFFSETFROM:-0400
TZOFFSETTO:-0500
TZNAME:EST
DTSTART:20231105T060000
END:STANDARD
END:VTIMEZONE
BEGIN:VEVENT
DTSTART;TZID=America/New_York:20231206T083000
DTEND;TZID=America/New_York:20231207T160000
DTSTAMP:20260421T193131
CREATED:20231121T151236Z
LAST-MODIFIED:20231121T151236Z
UID:3662-1701851400-1701964800@sosrcotraining.org
SUMMARY:Ethical Considerations in PAR
DESCRIPTION:
URL:https://sosrcotraining.org/class/ethical-considerations-in-par/
LOCATION:Archways ZOOM\, 175 Central Street
END:VEVENT
END:VCALENDAR