BEGIN:VCALENDAR
VERSION:2.0
PRODID:-// - ECPv5.16.2.1//NONSGML v1.0//EN
CALSCALE:GREGORIAN
METHOD:PUBLISH
X-ORIGINAL-URL:https://sosrcotraining.org
X-WR-CALDESC:Events for 
REFRESH-INTERVAL;VALUE=DURATION:PT1H
X-Robots-Tag:noindex
X-PUBLISHED-TTL:PT1H
BEGIN:VTIMEZONE
TZID:America/New_York
BEGIN:DAYLIGHT
TZOFFSETFROM:-0500
TZOFFSETTO:-0400
TZNAME:EDT
DTSTART:20240310T070000
END:DAYLIGHT
BEGIN:STANDARD
TZOFFSETFROM:-0400
TZOFFSETTO:-0500
TZNAME:EST
DTSTART:20241103T060000
END:STANDARD
END:VTIMEZONE
BEGIN:VEVENT
DTSTART;TZID=America/New_York:20240131T083000
DTEND;TZID=America/New_York:20240201T153000
DTSTAMP:20260421T152256
CREATED:20231107T071526Z
LAST-MODIFIED:20231107T071526Z
UID:3410-1706689800-1706801400@sosrcotraining.org
SUMMARY:Ethical Considerations in Peer-Assisted Recovery
DESCRIPTION:Emphasis is placed on understanding the similarities and difference between values\, norms\, principles\, morals and ethics as well as on learning how to make ethical decisions. Other areas explored include: understanding the ethical standards for the delivery of peer recovery services in a peer’s jurisdiction as well as the possibility of differing ethical standards given the location of service delivery including federally qualified health centers\, jails/prisons\, hospitals/emergency settings\, recovery community organizations\, etc. The training features presentations\, exercises and experiential learning techniques.\nThe curriculum development was funded in part by Kennebunk Savings Bank through a grant awarded to SOS Recovery Community Organization.\nLearning Objectives\nParticipants will be able to:\nDefine ethics\, principles and morals\nDescribe where to find the ethical standards already developed in their jurisdiction\nDiscuss a format for making ethical decisions.\nExamine and discuss personal values and their connection to ethical decision-making\nExamine one’s own self-care\nDiscuss further professional development needs
URL:https://sosrcotraining.org/class/ethical-considerations-in-peer-assisted-recovery-2/
LOCATION:Archways-ZOOM\, 175 Central Street Franklin\, NH 03235
END:VEVENT
BEGIN:VEVENT
DTSTART;TZID=America/New_York:20240205T090000
DTEND;TZID=America/New_York:20240209T170000
DTSTAMP:20260421T152256
CREATED:20231102T151144Z
LAST-MODIFIED:20240213T063741Z
UID:3356-1707123600-1707498000@sosrcotraining.org
SUMMARY:Art and Science of Peer Assisted Recovery
DESCRIPTION:Recovery-Oriented Systems of Care; multiple pathways of recovery; harm reduction; peer recovery support; boundary management; motivational interviewing; social justice issues; self care.
URL:https://sosrcotraining.org/class/art-and-science-of-peer-assisted-recovery-copy/
LOCATION:SOS Recovery Community Organization\, online
END:VEVENT
BEGIN:VEVENT
DTSTART;TZID=America/New_York:20240206T090000
DTEND;TZID=America/New_York:20240206T160000
DTSTAMP:20260421T152256
CREATED:20231107T071817Z
LAST-MODIFIED:20240213T063648Z
UID:3412-1707210000-1707235200@sosrcotraining.org
SUMMARY:Suicide Prevention for Peer-Assisted Recovery
DESCRIPTION:
URL:https://sosrcotraining.org/class/suicide-prevention-for-peer-assisted-recovery-2/
LOCATION:Archways ZOOM\, 175 Central Street
END:VEVENT
BEGIN:VEVENT
DTSTART;TZID=America/New_York:20240207T090000
DTEND;TZID=America/New_York:20240207T160000
DTSTAMP:20260421T152256
CREATED:20231107T071949Z
LAST-MODIFIED:20240213T063555Z
UID:3414-1707296400-1707321600@sosrcotraining.org
SUMMARY:AIDS\, HIV and Hepatitis Prevention for Peer-Assisted Recovery
DESCRIPTION:
URL:https://sosrcotraining.org/class/aids-hiv-and-hepatitis-prevention-for-peer-assisted-recovery-2/
LOCATION:Archways-ZOOM\, 175 Central Street Franklin\, NH 03235
END:VEVENT
BEGIN:VEVENT
DTSTART;TZID=America/New_York:20240215T083000
DTEND;TZID=America/New_York:20240216T153000
DTSTAMP:20260421T152256
CREATED:20231102T151409Z
LAST-MODIFIED:20240213T063333Z
UID:3361-1707985800-1708097400@sosrcotraining.org
SUMMARY:Ethical Considerations in Peer-Assisted Recovery
DESCRIPTION:Emphasis is placed on understanding the similarities and difference between values\, norms\, principles\, morals and ethics as well as on learning how to make ethical decisions.
URL:https://sosrcotraining.org/class/ethical-considerations-in-peer-assisted-recovery/
LOCATION:SOS Recovery Community Organization\, online
END:VEVENT
BEGIN:VEVENT
DTSTART;TZID=America/New_York:20240221T090000
DTEND;TZID=America/New_York:20240221T160000
DTSTAMP:20260421T152256
CREATED:20231102T151616Z
LAST-MODIFIED:20240213T063248Z
UID:3363-1708506000-1708531200@sosrcotraining.org
SUMMARY:Suicide Prevention for Peer-Assisted Recovery
DESCRIPTION:
URL:https://sosrcotraining.org/class/suicide-prevention-for-peer-assisted-recovery/
LOCATION:SOS Recovery Community Organization\, online
END:VEVENT
BEGIN:VEVENT
DTSTART;TZID=America/New_York:20240222T090000
DTEND;TZID=America/New_York:20240222T160000
DTSTAMP:20260421T152256
CREATED:20231102T151827Z
LAST-MODIFIED:20240213T063203Z
UID:3366-1708592400-1708617600@sosrcotraining.org
SUMMARY:AIDS\, HIV and Hepatitis Prevention for Peer-Assisted Recovery
DESCRIPTION:HIV\, AIDS\, and Hepatitis prevention.
URL:https://sosrcotraining.org/class/aids-hiv-and-hepatitis-prevention-for-peer-assisted-recovery/
LOCATION:SOS Recovery Community Organization\, online
END:VEVENT
BEGIN:VEVENT
DTSTART;TZID=America/New_York:20240223T083000
DTEND;TZID=America/New_York:20240223T120000
DTSTAMP:20260421T152256
CREATED:20231107T072804Z
LAST-MODIFIED:20240213T063118Z
UID:3422-1708677000-1708689600@sosrcotraining.org
SUMMARY:Co-Occurring Disorders
DESCRIPTION:Co-Occurring Disorders
URL:https://sosrcotraining.org/class/co-occurring-disorders/
LOCATION:SOS Recovery Community Organization\, online
END:VEVENT
END:VCALENDAR