BEGIN:VCALENDAR
VERSION:2.0
PRODID:-// - ECPv5.16.2.1//NONSGML v1.0//EN
CALSCALE:GREGORIAN
METHOD:PUBLISH
X-ORIGINAL-URL:https://sosrcotraining.org
X-WR-CALDESC:Events for 
REFRESH-INTERVAL;VALUE=DURATION:PT1H
X-Robots-Tag:noindex
X-PUBLISHED-TTL:PT1H
BEGIN:VTIMEZONE
TZID:America/New_York
BEGIN:DAYLIGHT
TZOFFSETFROM:-0500
TZOFFSETTO:-0400
TZNAME:EDT
DTSTART:20240310T070000
END:DAYLIGHT
BEGIN:STANDARD
TZOFFSETFROM:-0400
TZOFFSETTO:-0500
TZNAME:EST
DTSTART:20241103T060000
END:STANDARD
END:VTIMEZONE
BEGIN:VEVENT
DTSTART;TZID=America/New_York:20240503T080000
DTEND;TZID=America/New_York:20240504T170000
DTSTAMP:20260421T103642
CREATED:20240308T064143Z
LAST-MODIFIED:20240308T064143Z
UID:4049-1714723200-1714842000@sosrcotraining.org
SUMMARY:Ethical Considerations
DESCRIPTION:
URL:https://sosrcotraining.org/class/ethical-considerations/
LOCATION:Reality Check\, 17 Turnpike Rd\, Jaffrey\, NH\, 03452\, United States
END:VEVENT
BEGIN:VEVENT
DTSTART;TZID=America/New_York:20240510T080000
DTEND;TZID=America/New_York:20240510T170000
DTSTAMP:20260421T103642
CREATED:20240308T064316Z
LAST-MODIFIED:20240308T064316Z
UID:4051-1715328000-1715360400@sosrcotraining.org
SUMMARY:Suicide Prevention
DESCRIPTION:
URL:https://sosrcotraining.org/class/suicide-prevention/
LOCATION:Reality Check\, 17 Turnpike Rd\, Jaffrey\, NH\, 03452\, United States
END:VEVENT
BEGIN:VEVENT
DTSTART;TZID=America/New_York:20240510T083000
DTEND;TZID=America/New_York:20240510T160000
DTSTAMP:20260421T103642
CREATED:20240308T064316Z
LAST-MODIFIED:20240521T000055Z
UID:4106-1715329800-1715356800@sosrcotraining.org
SUMMARY:Suicide Prevention
DESCRIPTION:
URL:https://sosrcotraining.org/class/suicide-prevention-4/
END:VEVENT
BEGIN:VEVENT
DTSTART;TZID=America/New_York:20240511T080000
DTEND;TZID=America/New_York:20240511T170000
DTSTAMP:20260421T103642
CREATED:20240308T064443Z
LAST-MODIFIED:20240308T064443Z
UID:4053-1715414400-1715446800@sosrcotraining.org
SUMMARY:HIV/AIDS/Hepatitis C Prevention & Co-Occurring Disorders
DESCRIPTION:
URL:https://sosrcotraining.org/class/hiv-aids-hepatitis-c-prevention-co-occurring-disorders/
LOCATION:Reality Check\, 17 Turnpike Rd\, Jaffrey\, NH\, 03452\, United States
END:VEVENT
BEGIN:VEVENT
DTSTART;TZID=America/New_York:20240520T080000
DTEND;TZID=America/New_York:20240521T170000
DTSTAMP:20260421T103642
CREATED:20240520T130043Z
LAST-MODIFIED:20240520T233724Z
UID:4094-1716192000-1716310800@sosrcotraining.org
SUMMARY:Ethical Considerations
DESCRIPTION:
URL:https://sosrcotraining.org/class/ethical-considerations-3/
LOCATION:Archways\, zoom
END:VEVENT
BEGIN:VEVENT
DTSTART;TZID=America/New_York:20240530T080000
DTEND;TZID=America/New_York:20240530T170000
DTSTAMP:20260421T103642
CREATED:20240308T064443Z
LAST-MODIFIED:20240520T233839Z
UID:4098-1717056000-1717088400@sosrcotraining.org
SUMMARY:HIV/AIDS/Hepatitis C Prevention & Co-Occurring Disorders
DESCRIPTION:
URL:https://sosrcotraining.org/class/hiv-aids-hepatitis-c-prevention-co-occurring-disorders-2/
LOCATION:Archways\, 5 Prospect Street Tilton NH 03276
END:VEVENT
END:VCALENDAR